BEGIN:VCALENDAR
VERSION:2.0
PRODID:-//Egresados - IDE Business School
CALSCALE:GREGORIAN
METHOD:PUBLISH
X-WR-CALNAME:Egresados - IDE Business School
X-ORIGINAL-URL:https://egresados.ide.edu.ec/k-event/el-mercado-salarial-y-laboral-ecuatoriano-en-la-era-de-la-transformacion-digital-desafios-y-disrupciones/
X-WR-CALDESC:El mercado salarial y laboral ecuatoriano en la era de la transformación digital: desafíos y disrupciones
BEGIN:VEVENT
DTSTART:
DTEND:
SUMMARY:El mercado salarial y laboral ecuatoriano en la era de la transformación digital: desafíos y disrupciones
DESCRIPTION:
LOCATION:
END:VEVENT
END:VCALENDAR
